BEGIN:VCALENDAR
VERSION:2.0
CALSCALE:GREGORIAN
PRODID:adamgibbons/ics
METHOD:PUBLISH
X-PUBLISHED-TTL:PT1H
BEGIN:VEVENT
UID:77@lamanifestive.fr
SUMMARY:L’association Les enfants de Tchernobyl recherche des familles d’ac
	cueil pour des enfants ukrainiens invités en France durant 3 semaines en j
	uillet 2026
DTSTAMP:20260420T031545Z
DTSTART:20260703T220000Z
DTEND:20260725T220000Z
URL:https://lamanifestive.fr/event/lassociation-les-enfants-de-tchernobyl-r
	echerche-des-familles-daccueil-pour-des-enfants-ukrainiens-invites-en-fran
	ce-durant-3-semaines-en-juillet-2026
LOCATION:Roggenhouse - 14\, rue des Dahlias
STATUS:CONFIRMED
CATEGORIES:association,citoyenneté,solidarités
END:VEVENT
END:VCALENDAR
